BEGIN:VCALENDAR
VERSION:2.0
PRODID:-//SportPlan//Event Calendar//EN
CALSCALE:GREGORIAN
BEGIN:VEVENT
UID:7e62aa1f-be7e-4ddd-9e3f-4b8d8d898d30@sportplan.local
DTSTAMP:20260420T192112Z
DTSTART;VALUE=DATE:20260901
DTEND;VALUE=DATE:20260902
SUMMARY:Trail San Miguel de Abona
DESCRIPTION:Trail San Miguel de Abona se celebrará el 1 de septiembre de 2026 en San Miguel de Abona\, Tenerife\, Canarias. Es una buena cita para participantes y acompañantes que buscan un ambiente activo y bien organizado. La distancia anunciada es de 14 km.
LOCATION:San Miguel de Abona\, Tenerife\, Canarias
URL:https://sportplan.vercel.app/de/events/trail-san-miguel-de-abona-san-miguel-de-abona-2026-09-01-14k
END:VEVENT
END:VCALENDAR
