BEGIN:VCALENDAR
VERSION:2.0
PRODID:-//SportPlan//Event Calendar//EN
CALSCALE:GREGORIAN
BEGIN:VEVENT
UID:515c2385-7f83-40f7-99ce-eadc591f73f3@sportplan.local
DTSTAMP:20260420T192021Z
DTSTART;VALUE=DATE:20260421
DTEND;VALUE=DATE:20260422
SUMMARY:Trail Run Almendros y Volcanes - 21K
DESCRIPTION:The official Santiago del Teide sports page lists XIV Trail Run Almendros y Volcanes 2026 on 19 April 2026 at 09:00 in Tamaimo\, presenting it as one of the area's most anticipated mountain races and publishing official route tracks for the 7 km\, 14 km\, and 21 km distances.
LOCATION:Santiago del Teide\, Tenerife\, Canarias
URL:https://sportplan.vercel.app/de/events/trail-run-almendros-y-volcanes-21k-santiago-del-teide-2026-04-21-21k
END:VEVENT
END:VCALENDAR
