BEGIN:VCALENDAR
VERSION:2.0
PRODID:-//SportPlan//Event Calendar//EN
CALSCALE:GREGORIAN
BEGIN:VEVENT
UID:4e3fec52-c2a5-4c0b-98d9-2b8cd64b9eb3@sportplan.local
DTSTAMP:20260421T001412Z
DTSTART;VALUE=DATE:20260425
DTEND;VALUE=DATE:20260426
SUMMARY:Trail Puerto de Pajares
DESCRIPTION:Trail Puerto de Pajares se celebra en Lena\, Puerto de Pajares el 25 de abril de 2026. Es una cita ideal para vivir una gran jornada de running con un recorrido de 26 km route that suits both focused racing and enjoying the local atmosphere. Tanto si buscas marca como si prefieres disfrutar del recorrido\, ofrece una experiencia atractiva para corredores y acompañantes.
LOCATION:Lena\, Puerto de Pajares
URL:https://sportplan.vercel.app/de/events/trail-puerto-de-pajares-lena-2026-04-25
END:VEVENT
END:VCALENDAR
