BEGIN:VCALENDAR
VERSION:2.0
PRODID:-//SportPlan//Event Calendar//EN
CALSCALE:GREGORIAN
BEGIN:VEVENT
UID:dd71472c-fce1-4afd-876e-c6f1d31e5385@sportplan.local
DTSTAMP:20260420T204434Z
DTSTART;VALUE=DATE:20261208
DTEND;VALUE=DATE:20261209
SUMMARY:Trail Pozo los Moros
DESCRIPTION:Trail Pozo los Moros se celebrará el 8 de diciembre de 2026 en Bornos\, Cádiz\, Andalucía. Es una buena cita para quienes quieren vivir el ambiente del evento en directo y planificar la jornada con antelación. La sede prevista está a unos 21 km\, así que conviene revisar accesos\, horarios y servicios antes de salir.
LOCATION:Bornos\, Cádiz\, Andalucía
URL:https://sportplan.vercel.app/de/events/trail-pozo-los-moros-bornos-2026-12-08-21k
END:VEVENT
END:VCALENDAR
