BEGIN:VCALENDAR
VERSION:2.0
PRODID:-//SportPlan//Event Calendar//EN
CALSCALE:GREGORIAN
BEGIN:VEVENT
UID:797b72c8-5ee9-4e44-bcdd-c68a2a96c693@sportplan.local
DTSTAMP:20260420T192111Z
DTSTART;VALUE=DATE:20260713
DTEND;VALUE=DATE:20260714
SUMMARY:Trail Night Duesaigües 10K
DESCRIPTION:Trail Night Duesaigües 10K se celebra en DUESAIGÜES\, Tarragona\, Cataluña el 13 de julio de 2026\, reuniendo a corredores en un entorno atractivo y con muy buen ambiente. La prueba ofrece con unos 10 km de recorrido\, bien señalizados y con gran ambiente de carrera\, por lo que es una excelente opción tanto para quienes buscan rendir como para quienes quieren disfrutar de la experiencia.
LOCATION:DUESAIGÜES\, Tarragona\, Cataluña
URL:https://sportplan.vercel.app/de/events/trail-night-duesaigues-10k-duesaigues-2026-07-13-10k
END:VEVENT
END:VCALENDAR
