BEGIN:VCALENDAR
VERSION:2.0
PRODID:-//SportPlan//Event Calendar//EN
CALSCALE:GREGORIAN
BEGIN:VEVENT
UID:cb2652c2-5073-462e-a385-7321e54c1143@sportplan.local
DTSTAMP:20260421T001616Z
DTSTART;VALUE=DATE:20260914
DTEND;VALUE=DATE:20260915
SUMMARY:Trail Fuentes Carrionas - Ultra Trail Montaña Palentina
DESCRIPTION:Trail Fuentes Carrionas - Ultra Trail Montaña Palentina se celebra el 14 de septiembre de 2026 en Cardaño de Arriba\, Palencia\, Castilla y León\, ofreciendo una experiencia deportiva exigente y bien organizada para participantes de distintos niveles. El recorrido de 21 km combina reto físico\, ambiente de evento y una buena oportunidad para disfrutar del entorno local. Es una cita ideal tanto para quienes buscan competir como para quienes quieren sumar una nueva meta al calendario.
LOCATION:Cardaño de Arriba\, Palencia\, Castilla y León
URL:https://sportplan.vercel.app/de/events/trail-fuentes-carrionas-ultra-trail-montana-palentina-cardano-de-arriba-2026-09-
END:VEVENT
END:VCALENDAR
