BEGIN:VCALENDAR
VERSION:2.0
PRODID:-//SportPlan//Event Calendar//EN
CALSCALE:GREGORIAN
BEGIN:VEVENT
UID:093fa9e0-b67d-487a-b5f3-ecde9ca5ff23@sportplan.local
DTSTAMP:20260420T203834Z
DTSTART;VALUE=DATE:20260503
DTEND;VALUE=DATE:20260504
SUMMARY:Trail du Ninglinspo
DESCRIPTION:
LOCATION:Aywaille
URL:https://sportplan.vercel.app/de/events/trail-du-ninglinspo-aywaille-2026-05-03
END:VEVENT
END:VCALENDAR
