BEGIN:VCALENDAR
VERSION:2.0
PRODID:-//SportPlan//Event Calendar//EN
CALSCALE:GREGORIAN
BEGIN:VEVENT
UID:b791f35c-4c77-4dab-b3be-a03ebeede32d@sportplan.local
DTSTAMP:20260420T204706Z
DTSTART;VALUE=DATE:20260425
DTEND;VALUE=DATE:20260426
SUMMARY:Trail Dolmen del Gigante
DESCRIPTION:Trail Dolmen del Gigante se celebra en El Gastor\, Cádiz\, Andalucía el 25 de abril de 2026. Es una cita ideal para vivir una gran jornada de running con un recorrido de 16 km route that suits both focused racing and enjoying the local atmosphere. Tanto si buscas marca como si prefieres disfrutar del recorrido\, ofrece una experiencia atractiva para corredores y acompañantes.
LOCATION:El Gastor\, Cádiz\, Andalucía
URL:https://sportplan.vercel.app/de/events/trail-dolmen-del-gigante-el-gastor-2026-04-25-16k
END:VEVENT
END:VCALENDAR
