BEGIN:VCALENDAR
VERSION:2.0
PRODID:-//SportPlan//Event Calendar//EN
CALSCALE:GREGORIAN
BEGIN:VEVENT
UID:34a7ea6e-baf8-44e4-bd89-29951630eb60@sportplan.local
DTSTAMP:20260420T204709Z
DTSTART;VALUE=DATE:20260504
DTEND;VALUE=DATE:20260505
SUMMARY:Trail de Mondariz - Minitrail 14K
DESCRIPTION:Trail de Mondariz - Minitrail 14K se celebra en Mondariz\, Pontevedra\, Galicia el 4 de mayo de 2026\, una buena oportunidad para disfrutar del ambiente de carrera en este destino. La distancia anunciada es de 14 km. Se espera una jornada animada\, con apoyo del público y un recorrido atractivo tanto para corredores habituales como para quienes buscan un nuevo reto.
LOCATION:Mondariz\, Pontevedra\, Galicia
URL:https://sportplan.vercel.app/de/events/trail-de-mondariz-minitrail-14k-mondariz-2026-05-04-14k
END:VEVENT
END:VCALENDAR
