BEGIN:VCALENDAR
VERSION:2.0
PRODID:-//SportPlan//Event Calendar//EN
CALSCALE:GREGORIAN
BEGIN:VEVENT
UID:49cdf84b-d8ad-4fac-b569-d0957401e51c@sportplan.local
DTSTAMP:20260420T191335Z
DTSTART;VALUE=DATE:20260510
DTEND;VALUE=DATE:20260511
SUMMARY:Trail de Lloret de Mar — 6K
DESCRIPTION:Trail de Lloret de Mar — 6K se celebra en Lloret el 10 de mayo de 2026\, reuniendo a corredores en un ambiente lleno de energía. El recorrido pone en valor el entorno natural de Lloret a lo largo de 6 km\, ideal para quienes disfrutan del trail y la aventura.
LOCATION:Lloret
URL:https://sportplan.vercel.app/de/events/trail-de-lloret-de-mar-6k-lloret-2026-05-10
END:VEVENT
END:VCALENDAR
