BEGIN:VCALENDAR
VERSION:2.0
PRODID:-//SportPlan//Event Calendar//EN
CALSCALE:GREGORIAN
BEGIN:VEVENT
UID:51ea44a0-cbd4-4e88-914f-93faf2e0c118@sportplan.local
DTSTAMP:20260420T230054Z
DTSTART;VALUE=DATE:20260510
DTEND;VALUE=DATE:20260511
SUMMARY:Trail de Lloret de Mar — 15K
DESCRIPTION:Trail de Lloret de Mar — 15K se celebra en Lloret el 10 de mayo de 2026\, reuniendo a corredores en un ambiente lleno de energía. El recorrido pone en valor el entorno natural de Lloret a lo largo de 15 km\, ideal para quienes disfrutan del trail y la aventura.
LOCATION:Lloret
URL:https://sportplan.vercel.app/de/events/trail-de-lloret-de-mar-15k-lloret-2026-05-10
END:VEVENT
END:VCALENDAR
