BEGIN:VCALENDAR
VERSION:2.0
PRODID:-//SportPlan//Event Calendar//EN
CALSCALE:GREGORIAN
BEGIN:VEVENT
UID:b3cf6673-f571-49c4-ae6a-c321cd1f8194@sportplan.local
DTSTAMP:20260420T192110Z
DTSTART;VALUE=DATE:20261201
DTEND;VALUE=DATE:20261202
SUMMARY:Trail Cruz del Valle. San Jose del Valle
DESCRIPTION:Trail Cruz del Valle. San Jose del Valle se celebrará el 1 de diciembre de 2026 en Cádiz\, Cádiz\, Andalucía. Es una buena cita para quienes quieren vivir el ambiente del evento en directo y planificar la jornada con antelación. La sede prevista está a unos 19.5 km\, así que conviene revisar accesos\, horarios y servicios antes de salir.
LOCATION:Cádiz\, Cádiz\, Andalucía
URL:https://sportplan.vercel.app/de/events/trail-cruz-del-valle-san-jose-del-valle-cadiz-2026-12-01-19-5k
END:VEVENT
END:VCALENDAR
