BEGIN:VCALENDAR
VERSION:2.0
PRODID:-//SportPlan//Event Calendar//EN
CALSCALE:GREGORIAN
BEGIN:VEVENT
UID:4c8763ea-9bec-42d0-801b-30729ee6801a@sportplan.local
DTSTAMP:20260421T001201Z
DTSTART;VALUE=DATE:20260613
DTEND;VALUE=DATE:20260614
SUMMARY:Trail Costa Oriente Llanes
DESCRIPTION:Trail Costa Oriente Llanes se celebra en Llanes\, Costa Oriente Asturiana el 13 de junio de 2026. Esta prueba ofrece una experiencia bien organizada para corredores\, con un recorrido de aproximadamente 19 km. Es una buena oportunidad para disfrutar del ambiente del evento\, medirte sobre el recorrido y vivir una jornada deportiva en Llanes\, Costa Oriente Asturiana.
LOCATION:Llanes\, Costa Oriente Asturiana
URL:https://sportplan.vercel.app/de/events/trail-costa-oriente-llanes-llanes-2026-06-13
END:VEVENT
END:VCALENDAR
