BEGIN:VCALENDAR
VERSION:2.0
PRODID:-//SportPlan//Event Calendar//EN
CALSCALE:GREGORIAN
BEGIN:VEVENT
UID:78cc65b4-0f0e-4f23-9ec6-8ce58ccc7678@sportplan.local
DTSTAMP:20260420T191617Z
DTSTART;VALUE=DATE:20261017
DTEND;VALUE=DATE:20261018
SUMMARY:Trail Buciero
DESCRIPTION:Trail Buciero se celebra el 17 de octubre de 2026 en Santoña\, Cantabria. Es una cita ideal para quienes buscan un recorrido bien señalizado y un gran ambiente de carrera\, con un recorrido de 14 km. Perfecta tanto para competir a buen ritmo como para disfrutar de la experiencia y del entorno del evento.
LOCATION:Santoña\, Cantabria
URL:https://sportplan.vercel.app/de/events/trail-buciero-santo-a-2026-10-17
END:VEVENT
END:VCALENDAR
