BEGIN:VCALENDAR
VERSION:2.0
PRODID:-//SportPlan//Event Calendar//EN
CALSCALE:GREGORIAN
BEGIN:VEVENT
UID:d588b487-89c9-465e-b447-287b0d63cf7d@sportplan.local
DTSTAMP:20260421T001534Z
DTSTART;VALUE=DATE:20260704
DTEND;VALUE=DATE:20260705
SUMMARY:Trail Berguedà Natura
DESCRIPTION:Trail Berguedà Natura se celebrará el 4 de julio de 2026 en Guardiola de Berguedà. Es una buena cita para participantes que buscan una experiencia deportiva bien organizada y un ambiente motivador. El recorrido cubre aproximadamente 29 km. Consulta la información oficial del evento para conocer horarios\, recorridos y detalles logísticos.
LOCATION:Guardiola de Berguedà
URL:https://sportplan.vercel.app/de/events/trail-bergued-natura-guardiola-de-bergueda-2026-07-04
END:VEVENT
END:VCALENDAR
