BEGIN:VCALENDAR
VERSION:2.0
PRODID:-//SportPlan//Event Calendar//EN
CALSCALE:GREGORIAN
BEGIN:VEVENT
UID:15f2183d-1ad3-412d-8d11-d5c1dd8d902d@sportplan.local
DTSTAMP:20260420T204528Z
DTSTART;VALUE=DATE:20260721
DTEND;VALUE=DATE:20260722
SUMMARY:Trail Barranco el Ingenio
DESCRIPTION:Trail Barranco el Ingenio se celebra en Vallehermoso\, Tenerife\, Canarias el 21 de julio de 2026\, reuniendo a corredores en un entorno atractivo y con muy buen ambiente. La prueba ofrece con unos 10 km de recorrido\, bien señalizados y con gran ambiente de carrera\, por lo que es una excelente opción tanto para quienes buscan rendir como para quienes quieren disfrutar de la experiencia.
LOCATION:Vallehermoso\, Tenerife\, Canarias
URL:https://sportplan.vercel.app/de/events/trail-barranco-el-ingenio-vallehermoso-2026-07-21-10k
END:VEVENT
END:VCALENDAR
