BEGIN:VCALENDAR
VERSION:2.0
PRODID:-//SportPlan//Event Calendar//EN
CALSCALE:GREGORIAN
BEGIN:VEVENT
UID:8464bfd6-5467-4f40-90e6-342196a2e9a9@sportplan.local
DTSTAMP:20260420T222522Z
DTSTART;VALUE=DATE:20260706
DTEND;VALUE=DATE:20260707
SUMMARY:Trail & Andaina Montes de Sandiás
DESCRIPTION:Trail & Andaina Montes de Sandiás se celebrará el 6 de julio de 2026 en Sandiás\, Ourense\, Galicia. Es una cita ideal para quienes buscan una experiencia bien organizada con un recorrido de 10 km y un ambiente deportivo atractivo. Participar en esta prueba es una gran oportunidad para disfrutar del recorrido\, marcarse un objetivo y vivir el evento junto a otros corredores.
LOCATION:Sandiás\, Ourense\, Galicia
URL:https://sportplan.vercel.app/de/events/trail-andaina-montes-de-sandias-sandias-2026-07-06-10k
END:VEVENT
END:VCALENDAR
