BEGIN:VCALENDAR
VERSION:2.0
PRODID:-//SportPlan//Event Calendar//EN
CALSCALE:GREGORIAN
BEGIN:VEVENT
UID:d0573d4f-3001-48c9-9ab5-f6012261112e@sportplan.local
DTSTAMP:20260420T222610Z
DTSTART;VALUE=DATE:20260906
DTEND;VALUE=DATE:20260907
SUMMARY:Tortour Schwarzwald Gravel 2026
DESCRIPTION:Tortour Schwarzwald Gravel 2026 findet am 6. September 2026 in Freiburg\, Baden-Württemberg statt und bringt die Teilnehmenden zu einem sportlichen Tag in starker Atmosphäre zusammen. Die Strecke umfasst ungefähr 200 km. Erwartet werden ein motiviertes Starterfeld\, eine angenehme Organisation und ein überzeugendes Eventerlebnis vor Ort.
LOCATION:Freiburg\, Baden-Württemberg
URL:https://sportplan.vercel.app/de/events/tortour-schwarzwald-gravel-2026-freiburg-2026-09-06
END:VEVENT
END:VCALENDAR
