BEGIN:VCALENDAR
VERSION:2.0
PRODID:-//SportPlan//Event Calendar//EN
CALSCALE:GREGORIAN
BEGIN:VEVENT
UID:759a6fbc-a394-4470-877e-16408ad60192@sportplan.local
DTSTAMP:20260420T191722Z
DTSTART;VALUE=DATE:20270307
DTEND;VALUE=DATE:20270308
SUMMARY:Tokyo Marathon 2027
DESCRIPTION:
LOCATION:Tokyo\, Tokyo
URL:https://sportplan.vercel.app/de/events/tokyo-marathon-2027-tokyo-2027-03-07
END:VEVENT
END:VCALENDAR
