BEGIN:VCALENDAR
VERSION:2.0
PRODID:-//SportPlan//Event Calendar//EN
CALSCALE:GREGORIAN
BEGIN:VEVENT
UID:06ff2bf6-c905-4f1e-b6f4-e5cb7f0bd28f@sportplan.local
DTSTAMP:20260420T191758Z
DTSTART;VALUE=DATE:20260606
DTEND;VALUE=DATE:20260607
SUMMARY:Titan Desert Madrid MTB
DESCRIPTION:Titan Desert Madrid MTB se celebra el 6 de junio de 2026 en Rascafría. Es una excelente opción para quienes quieren disfrutar de un evento bien organizado en este destino. La prueba recorre 65 km. Se espera un ambiente animado y una jornada memorable tanto para corredores habituales como para debutantes.
LOCATION:Rascafría
URL:https://sportplan.vercel.app/de/events/titan-desert-madrid-mtb-rascafr-a-2026-06-06
END:VEVENT
END:VCALENDAR
