BEGIN:VCALENDAR
VERSION:2.0
PRODID:-//SportPlan//Event Calendar//EN
CALSCALE:GREGORIAN
BEGIN:VEVENT
UID:ae072fad-f749-41ef-9507-124529dbec10@sportplan.local
DTSTAMP:20260420T221108Z
DTSTART;VALUE=DATE:20260901
DTEND;VALUE=DATE:20260902
SUMMARY:Tinajo You Trail - 14K
DESCRIPTION:Tinajo You Trail - 14K se celebrará el 1 de septiembre de 2026 en Lanzarote\, Lanzarote\, Canarias. Es una buena cita para participantes y acompañantes que buscan un ambiente activo y bien organizado. La distancia anunciada es de 14 km.
LOCATION:Lanzarote\, Lanzarote\, Canarias
URL:https://sportplan.vercel.app/de/events/tinajo-you-trail-14k-lanzarote-2026-09-01-14k
END:VEVENT
END:VCALENDAR
