BEGIN:VCALENDAR
VERSION:2.0
PRODID:-//SportPlan//Event Calendar//EN
CALSCALE:GREGORIAN
BEGIN:VEVENT
UID:59779b7a-0924-44bd-ad2a-279509dd2a94@sportplan.local
DTSTAMP:20260420T221901Z
DTSTART;VALUE=DATE:20260704
DTEND;VALUE=DATE:20260706
SUMMARY:The Sydney Trail Half Marathon Winter Edition
DESCRIPTION:
LOCATION:North Parramatta
URL:https://sportplan.vercel.app/de/events/the-sydney-trail-half-marathon-winter-edition-north-parramatta-2026-07-04
END:VEVENT
END:VCALENDAR
