BEGIN:VCALENDAR
VERSION:2.0
PRODID:-//SportPlan//Event Calendar//EN
CALSCALE:GREGORIAN
BEGIN:VEVENT
UID:441a5161-78f2-4db7-9f84-14c0bc322409@sportplan.local
DTSTAMP:20260420T233854Z
DTSTART;VALUE=DATE:20260710
DTEND;VALUE=DATE:20260713
SUMMARY:The Majestics Granfondo 2026
DESCRIPTION:The Majestics Granfondo 2026 is an amateur alpine road-cycling weekend in Villars-sur-Ollon\, Switzerland. The official event site confirms a 10-12 July 2026 festival with road\, gravel\, and time-trial racing\, while the UCI Gran Fondo World Series detail page identifies the road qualifier distances and positions the granfondo as an open high-mountain challenge.
LOCATION:Villars-sur-Ollon
URL:https://sportplan.vercel.app/de/events/the-majestics-granfondo-2026-2026-07-10
END:VEVENT
END:VCALENDAR
