BEGIN:VCALENDAR
VERSION:2.0
PRODID:-//SportPlan//Event Calendar//EN
CALSCALE:GREGORIAN
BEGIN:VEVENT
UID:10468b23-dd62-4801-b117-8011908a1a82@sportplan.local
DTSTAMP:20260420T191739Z
DTSTART;VALUE=DATE:20260426
DTEND;VALUE=DATE:20260427
SUMMARY:The Clinic Maer 10km & Half Marathon
DESCRIPTION:
LOCATION:East Devon
URL:https://sportplan.vercel.app/de/events/the-clinic-maer-10km-half-marathon-east-devon-2026-04-26
END:VEVENT
END:VCALENDAR
