BEGIN:VCALENDAR
VERSION:2.0
PRODID:-//SportPlan//Event Calendar//EN
CALSCALE:GREGORIAN
BEGIN:VEVENT
UID:1cdc6d32-a01e-4707-b9fb-34a9917bf14e@sportplan.local
DTSTAMP:20260420T233507Z
DTSTART;VALUE=DATE:20261025
DTEND;VALUE=DATE:20261026
SUMMARY:The Bloody Long Walk Mornington Peninsula 2026
DESCRIPTION:The Bloody Long Walk Mornington Peninsula 2026 is an official amateur 35 km walking-hiking participation event in Victoria on 25 October 2026. The official event page and 2026 series listing confirm a scenic 35 km public walk starting at Point Nepean Quarantine Station and finishing at Martha Cove Marina\, with open participant registration supporting the Mito Foundation.
LOCATION:Point Nepean Quarantine Station\, Portsea\, Victoria
URL:https://sportplan.vercel.app/de/events/the-bloody-long-walk-mornington-peninsula-2026-2026-10-25
END:VEVENT
END:VCALENDAR
