BEGIN:VCALENDAR
VERSION:2.0
PRODID:-//SportPlan//Event Calendar//EN
CALSCALE:GREGORIAN
BEGIN:VEVENT
UID:fc3099a2-f33d-4a8f-81e1-ab4143337073@sportplan.local
DTSTAMP:20260421T035021Z
DTSTART;VALUE=DATE:20261017
DTEND;VALUE=DATE:20261018
SUMMARY:Taupo Ultramarathon
DESCRIPTION:discovered via Brave web_search on direct World's Marathons New Zealand event pages\; NZ had 8 queue entries before this run and was selected to expand Oceania coverage
LOCATION:Lake Taupo\, New Zealand
URL:https://sportplan.vercel.app/de/events/taupo-ultramarathon-2026-10-17
END:VEVENT
END:VCALENDAR
