BEGIN:VCALENDAR
VERSION:2.0
PRODID:-//SportPlan//Event Calendar//EN
CALSCALE:GREGORIAN
BEGIN:VEVENT
UID:64637739-9324-4337-bd76-1dd0672c36e4@sportplan.local
DTSTAMP:20260420T192023Z
DTSTART;VALUE=DATE:20270117
DTEND;VALUE=DATE:20270118
SUMMARY:Tata Mumbai Marathon | World's Marathons\, 17 Jan 2027
DESCRIPTION:World's Marathons event page for Tata Mumbai Marathon.
LOCATION:Mumbai\, India
URL:https://sportplan.vercel.app/de/events/tata-mumbai-marathon-world-s-marathons-17-jan-2027-2027-01-17
END:VEVENT
END:VCALENDAR
