BEGIN:VCALENDAR
VERSION:2.0
PRODID:-//SportPlan//Event Calendar//EN
CALSCALE:GREGORIAN
BEGIN:VEVENT
UID:b6b7fa6b-bf32-4bdb-a276-b6fa9e3cd760@sportplan.local
DTSTAMP:20260420T221757Z
DTSTART;VALUE=DATE:20270228
DTEND;VALUE=DATE:20270301
SUMMARY:Tartu Maraton Classic 63K 2027
DESCRIPTION:Tartu Maraton Classic 63K is an official mass-participation cross-country ski marathon in Estonia on 28 February 2027. The official Tartu Maraton page describes the traditional 63 km classic race from Otepää to Elva\, part of one of the world's oldest and largest ski marathons\, and the official Worldloppet calendar lists the 63 km classic race on 28 February 2027.
LOCATION:Otepää to Elva\, Estonia
URL:https://sportplan.vercel.app/de/events/tartu-maraton-classic-63k-2027-otepaa-2027-02-28
END:VEVENT
END:VCALENDAR
