BEGIN:VCALENDAR
VERSION:2.0
PRODID:-//SportPlan//Event Calendar//EN
CALSCALE:GREGORIAN
BEGIN:VEVENT
UID:e5671f99-30f5-45e6-bb8e-19c9fdaac770@sportplan.local
DTSTAMP:20260420T221750Z
DTSTART;VALUE=DATE:20270228
DTEND;VALUE=DATE:20270301
SUMMARY:Tartu Maraton Classic 31K 2027
DESCRIPTION:Tartu Maraton Classic 31K is an official mass-participation cross-country ski race in Estonia on 28 February 2027. The official Tartu Maraton page states that the event programme includes a 31 km classic race\, with the shorter 31 km distances starting in Arula and finishing in Elva as part of one of the world's largest public ski marathons.
LOCATION:Arula to Elva\, Estonia
URL:https://sportplan.vercel.app/de/events/tartu-maraton-classic-31k-2027-arula-2027-02-28
END:VEVENT
END:VCALENDAR
