BEGIN:VCALENDAR
VERSION:2.0
PRODID:-//SportPlan//Event Calendar//EN
CALSCALE:GREGORIAN
BEGIN:VEVENT
UID:0e3f4302-6d0a-4581-9776-c82fe1367970@sportplan.local
DTSTAMP:20260420T222610Z
DTSTART;VALUE=DATE:20260919
DTEND;VALUE=DATE:20260920
SUMMARY:Tartu Bike Marathon 2026
DESCRIPTION:Tartu Bike Marathon 2026 is an official mass-participation gravel cycling event in South Estonia on 19 September 2026. The official organizer describes 126 km\, 86 km\, 40 km\, and 21 km amateur distances from Otepää to Elva\, kids races on the following day\, virtual participation\, and 2026 inclusion in the UCI Gravel World Series.
LOCATION:Otepää to Elva\, Estonia
URL:https://sportplan.vercel.app/de/events/tartu-bike-marathon-2026-otepaa-elva-2026-09-19
END:VEVENT
END:VCALENDAR
