BEGIN:VCALENDAR
VERSION:2.0
PRODID:-//SportPlan//Event Calendar//EN
CALSCALE:GREGORIAN
BEGIN:VEVENT
UID:bcd9db5b-9ee4-4946-a051-c37f5b9fecc4@sportplan.local
DTSTAMP:20260420T191848Z
DTSTART;VALUE=DATE:20260423
DTEND;VALUE=DATE:20260424
SUMMARY:Tallinna Neljapäevak
DESCRIPTION:Tallinna Neljapäevak is an official amateur weekly orienteering event in Rohuneeme\, Estonia on 23 April 2026. The official Estonian Orienteering Federation event page confirms the 2026 date and Rohuneeme venue\, and the official TON organizer site lists the 23 April stage\, start time from 17:00\, and public participation fees for adults\, students\, juniors\, and seniors.
LOCATION:Rohuneeme\, Viimsi\, Estonia
URL:https://sportplan.vercel.app/de/events/tallinna-neljapaevak-rohuneeme-2026-04-23
END:VEVENT
END:VCALENDAR
