BEGIN:VCALENDAR
VERSION:2.0
PRODID:-//SportPlan//Event Calendar//EN
CALSCALE:GREGORIAN
BEGIN:VEVENT
UID:40f7a353-48df-4154-9eb6-4c91d1aa2121@sportplan.local
DTSTAMP:20260420T191752Z
DTSTART;VALUE=DATE:20260920
DTEND;VALUE=DATE:20260921
SUMMARY:Sydney Marathon 2026
DESCRIPTION:
LOCATION:Sydney\, New South Wales
URL:https://sportplan.vercel.app/de/events/sydney-marathon-2026-sydney-2026-09-20
END:VEVENT
END:VCALENDAR
