BEGIN:VCALENDAR
VERSION:2.0
PRODID:-//SportPlan//Event Calendar//EN
CALSCALE:GREGORIAN
BEGIN:VEVENT
UID:ac708132-c665-44a7-985e-4cee6b22e86f@sportplan.local
DTSTAMP:20260421T001359Z
DTSTART;VALUE=DATE:20261025
DTEND;VALUE=DATE:20261026
SUMMARY:SwissCity Marathon – Lucerne
DESCRIPTION:SwissCity Marathon – Lucerne findet am 25. Oktober 2026 in Lucerne\, Switzerland statt und bringt Teilnehmende zu einem gut organisierten Sporttag zusammen. Die Veranstaltung bietet eine einprägsame Strecke und eine einladende Atmosphäre. Damit ist sie eine starke Gelegenheit\, die lokale Stimmung zu erleben\, ein Saisonziel anzugehen und motiviert an den Start zu gehen.
LOCATION:Lucerne\, Switzerland
URL:https://sportplan.vercel.app/de/events/swisscity-marathon-lucerne-2026-10-25
END:VEVENT
END:VCALENDAR
