BEGIN:VCALENDAR
VERSION:2.0
PRODID:-//SportPlan//Event Calendar//EN
CALSCALE:GREGORIAN
BEGIN:VEVENT
UID:051693ba-fcb8-41b0-a396-138d328ed76d@sportplan.local
DTSTAMP:20260420T234628Z
DTSTART;VALUE=DATE:20260719
DTEND;VALUE=DATE:20260720
SUMMARY:Swissalpine K78 — Rhine Gorge Ultra 2026
DESCRIPTION:Official Swissalpine K78 distance page\; 78.2km trail ultra through Swiss Grand Canyon and Martinsloch\; stable sub-page URL\; CH ultra trail variety
LOCATION:Flims Laax\, Switzerland
URL:https://sportplan.vercel.app/de/events/swissalpine-k78-rhine-gorge-ultra-2026-2026-07-19
END:VEVENT
END:VCALENDAR
