BEGIN:VCALENDAR
VERSION:2.0
PRODID:-//SportPlan//Event Calendar//EN
CALSCALE:GREGORIAN
BEGIN:VEVENT
UID:14112673-a54a-405b-8ba3-a64c8ebf380f@sportplan.local
DTSTAMP:20260420T234629Z
DTSTART;VALUE=DATE:20260712
DTEND;VALUE=DATE:20260719
SUMMARY:Swiss Orienteering Week 2026 Portes du Soleil
DESCRIPTION:Swiss Orienteering Week 2026 Portes du Soleil is the official international six-stage amateur orienteering week centered on Morgins\, Valais from 12 to 18 July 2026. The official weekly programme lists six public competition days across La Foilleuse\, Plaine Dranse\, Col de Chésery\, Portes du Soleil\, Avoriaz\, and Super Châtel\, with open registration through the organizer’s Trackmaxx entry system and a rest day on 15 July.
LOCATION:Morgins\, Valais
URL:https://sportplan.vercel.app/de/events/swiss-orienteering-week-2026-portes-du-soleil-2026-07-12
END:VEVENT
END:VCALENDAR
