BEGIN:VCALENDAR
VERSION:2.0
PRODID:-//SportPlan//Event Calendar//EN
CALSCALE:GREGORIAN
BEGIN:VEVENT
UID:cf6104a7-5eba-46e0-9068-10abdbfb6185@sportplan.local
DTSTAMP:20260420T204410Z
DTSTART;VALUE=DATE:20261010
DTEND;VALUE=DATE:20261011
SUMMARY:Swedish Mile 5K 2026
DESCRIPTION:The Swedish Mile 5K is the shorter official amateur-open run within the Swedish Mile Trail Race and Family Fun Day at the Vasaloppet Nordic Center in Mora\, Minnesota\, United States on 10 October 2026. The official page lists a 5K mass start at 11:15 a.m. and positions it as part of a family-friendly fundraising day on the trails.
LOCATION:Vasaloppet Nordic Center\, Mora\, Minnesota\, United States
URL:https://sportplan.vercel.app/de/events/swedish-mile-5k-2026-mora-2026-10-10
END:VEVENT
END:VCALENDAR
