BEGIN:VCALENDAR
VERSION:2.0
PRODID:-//SportPlan//Event Calendar//EN
CALSCALE:GREGORIAN
BEGIN:VEVENT
UID:66cc744e-ee8f-4916-a46e-263da89719ad@sportplan.local
DTSTAMP:20260421T010054Z
DTSTART;VALUE=DATE:20260625
DTEND;VALUE=DATE:20260626
SUMMARY:Suzuki Midnight Sun Run Half Marathon 2026
DESCRIPTION:The Suzuki Midnight Sun Run half marathon is an official amateur-participation road race held on the evening of 25 June 2026 in Laugardalur\, Reykjavik. The organizer lists it as one of three open distances in the Midnight Sun Run\, with a certified AIMS-measured course\, evening start under Iceland's summer light\, and on-course refreshment support.
LOCATION:Laugardalur\, Reykjavik\, Capital Region\, Iceland
URL:https://sportplan.vercel.app/de/events/suzuki-midnight-sun-run-half-marathon-2026-reykjavik-2026-06-25
END:VEVENT
END:VCALENDAR
