BEGIN:VCALENDAR
VERSION:2.0
PRODID:-//SportPlan//Event Calendar//EN
CALSCALE:GREGORIAN
BEGIN:VEVENT
UID:16972beb-3d1a-4a74-9f6e-319bdfd37e3c@sportplan.local
DTSTAMP:20260420T161154Z
DTSTART;VALUE=DATE:20260627
DTEND;VALUE=DATE:20260628
SUMMARY:Sure to Sure Swimrun Luxembourg
DESCRIPTION:Sure to Sure Swimrun Luxembourg is an official amateur swimrun event in Luxembourg on 27 June 2026. The official organizer site describes it as an open water swimming and trail-running adventure around the Upper Sûre reservoir with open public registration for participants.
LOCATION:Insenborn\, Luxembourg
URL:https://sportplan.vercel.app/de/events/sure-to-sure-swimrun-luxembourg-2026-06-27
END:VEVENT
END:VCALENDAR
