BEGIN:VCALENDAR
VERSION:2.0
PRODID:-//SportPlan//Event Calendar//EN
CALSCALE:GREGORIAN
BEGIN:VEVENT
UID:009324ab-6603-46ed-a9da-28794a21b775@sportplan.local
DTSTAMP:20260421T030145Z
DTSTART;VALUE=DATE:20270203
DTEND;VALUE=DATE:20270204
SUMMARY:Sunset Series
DESCRIPTION:Official event landing page\; multi-date city running series.
LOCATION:Melbourne\, Australia
URL:https://sportplan.vercel.app/de/events/sunset-series-2027-02-03
END:VEVENT
END:VCALENDAR
