BEGIN:VCALENDAR
VERSION:2.0
PRODID:-//SportPlan//Event Calendar//EN
CALSCALE:GREGORIAN
BEGIN:VEVENT
UID:27554d7a-e1c5-4acc-ba2a-8c89be7e015b@sportplan.local
DTSTAMP:20260420T191803Z
DTSTART;VALUE=DATE:20260913
DTEND;VALUE=DATE:20260914
SUMMARY:Sunday Mail Bridge to Brisbane 2026
DESCRIPTION:Queensland's largest fun run\; 10K over Gateway Bridge + 5K\; finish Brisbane Showgrounds\; discovered via runningcalendar.com.au
LOCATION:Brisbane\, QLD\, Australia
URL:https://sportplan.vercel.app/de/events/sunday-mail-bridge-to-brisbane-2026-2026-09-13
END:VEVENT
END:VCALENDAR
