BEGIN:VCALENDAR
VERSION:2.0
PRODID:-//SportPlan//Event Calendar//EN
CALSCALE:GREGORIAN
BEGIN:VEVENT
UID:4f3fde0f-3318-4394-8192-60068d36bc91@sportplan.local
DTSTAMP:20260420T191528Z
DTSTART;VALUE=DATE:20260606
DTEND;VALUE=DATE:20260607
SUMMARY:Sümela Ultra Trail
DESCRIPTION:
LOCATION:Turkey
URL:https://sportplan.vercel.app/de/events/sumela-ultra-trail-2026-06-06
END:VEVENT
END:VCALENDAR
