BEGIN:VCALENDAR
VERSION:2.0
PRODID:-//SportPlan//Event Calendar//EN
CALSCALE:GREGORIAN
BEGIN:VEVENT
UID:9d65b642-e6a0-4d03-bb1f-a67aed691c91@sportplan.local
DTSTAMP:20260420T204245Z
DTSTART;VALUE=DATE:20260509
DTEND;VALUE=DATE:20260511
SUMMARY:Sudety Tour 2026
DESCRIPTION:Sudety Tour 2026 is an amateur UCI Gran Fondo World Series qualifier based in Broumov\, with a Saturday time trial near Radków in Poland and Sunday road races over 96 km and 152 km linking Czechia and Poland.
LOCATION:Broumov
URL:https://sportplan.vercel.app/de/events/sudety-tour-2026-2026-05-09
END:VEVENT
END:VCALENDAR
