BEGIN:VCALENDAR
VERSION:2.0
PRODID:-//SportPlan//Event Calendar//EN
CALSCALE:GREGORIAN
BEGIN:VEVENT
UID:f67b4c07-56b3-42dd-9eba-cba756d43ab3@sportplan.local
DTSTAMP:20260420T192113Z
DTSTART;VALUE=DATE:20260929
DTEND;VALUE=DATE:20260930
SUMMARY:Subida Pedestre Desfiladero de la Hermida
DESCRIPTION:Subida Pedestre Desfiladero de la Hermida se celebra en Potes\, Cantabria\, Cantabria el 29 de septiembre de 2026\, ofreciendo a los corredores una ocasión ideal para disfrutar de un ambiente competitivo y bien organizado en ES. La distancia anunciada es de 28.5 km\, una propuesta atractiva para corredores que buscan un reto claro y una jornada especial. Es una prueba pensada para vivir una jornada deportiva motivadora\, tanto para atletas experimentados como para participantes entusiastas.
LOCATION:Potes\, Cantabria\, Cantabria
URL:https://sportplan.vercel.app/de/events/subida-pedestre-desfiladero-de-la-hermida-potes-2026-09-29-28-5k
END:VEVENT
END:VCALENDAR
