BEGIN:VCALENDAR
VERSION:2.0
PRODID:-//SportPlan//Event Calendar//EN
CALSCALE:GREGORIAN
BEGIN:VEVENT
UID:742d6be2-8608-4738-b562-98f183acc4de@sportplan.local
DTSTAMP:20260420T174114Z
DTSTART;VALUE=DATE:20260601
DTEND;VALUE=DATE:20260602
SUMMARY:Subida al Peloto - 30K
DESCRIPTION:Subida al Peloto - 30K se celebra el 1 de junio de 2026 en Casas Bajas\, València\, Comunidad Valenciana. Es una excelente opción para quienes quieren disfrutar de un evento bien organizado en este destino. La prueba recorre 30 km. Se espera un ambiente animado y una jornada memorable tanto para corredores habituales como para debutantes.
LOCATION:Casas Bajas\, València\, Comunidad Valenciana
URL:https://sportplan.vercel.app/de/events/subida-al-peloto-30k-casas-bajas-2026-06-01-30k
END:VEVENT
END:VCALENDAR
