BEGIN:VCALENDAR
VERSION:2.0
PRODID:-//SportPlan//Event Calendar//EN
CALSCALE:GREGORIAN
BEGIN:VEVENT
UID:d9276994-5d0e-4f35-ad02-a873d69bcdbc@sportplan.local
DTSTAMP:20260421T001535Z
DTSTART;VALUE=DATE:20260713
DTEND;VALUE=DATE:20260714
SUMMARY:Subida a la Mota Cetín - Larga
DESCRIPTION:Subida a la Mota Cetín - Larga se celebra en La Roza\, Asturias\, Asturias el 13 de julio de 2026\, reuniendo a corredores en un entorno atractivo y con muy buen ambiente. La prueba ofrece con unos 32 km de recorrido\, bien señalizados y con gran ambiente de carrera\, por lo que es una excelente opción tanto para quienes buscan rendir como para quienes quieren disfrutar de la experiencia.
LOCATION:La Roza\, Asturias\, Asturias
URL:https://sportplan.vercel.app/de/events/subida-a-la-mota-cetin-larga-la-roza-2026-07-13-32k
END:VEVENT
END:VCALENDAR
