BEGIN:VCALENDAR
VERSION:2.0
PRODID:-//SportPlan//Event Calendar//EN
CALSCALE:GREGORIAN
BEGIN:VEVENT
UID:3d841999-fe4c-4700-bb3e-aa937efef26a@sportplan.local
DTSTAMP:20260421T001201Z
DTSTART;VALUE=DATE:20260725
DTEND;VALUE=DATE:20260726
SUMMARY:Stockhorn Half Marathon
DESCRIPTION:discovered via TimeOutdoors Switzerland runs listing\; filtered to direct Switzerland running event pages and deduplicated against existing scout queue
LOCATION:Bahnhofplatz\, Oberwil im Simmental\, Switzerland
URL:https://sportplan.vercel.app/de/events/stockhorn-half-marathon-2026-07-25
END:VEVENT
END:VCALENDAR
