BEGIN:VCALENDAR
VERSION:2.0
PRODID:-//SportPlan//Event Calendar//EN
CALSCALE:GREGORIAN
BEGIN:VEVENT
UID:053aa0ba-873a-4a25-b469-b33b4846754c@sportplan.local
DTSTAMP:20260421T005544Z
DTSTART;VALUE=DATE:20260829
DTEND;VALUE=DATE:20260830
SUMMARY:Stavanger Marathon
DESCRIPTION:Stavanger Marathon arrangeres 29 august 2026 i Stavanger\, Norway. Dette er et godt valg for deltakere og ledsagere som ønsker et aktivt og godt organisert arrangement. Distanse bekreftes av arrangøren.
LOCATION:Stavanger\, Norway
URL:https://sportplan.vercel.app/de/events/stavanger-marathon-2026-08-29
END:VEVENT
END:VCALENDAR
