BEGIN:VCALENDAR
VERSION:2.0
PRODID:-//SportPlan//Event Calendar//EN
CALSCALE:GREGORIAN
BEGIN:VEVENT
UID:02591940-4a64-4dc5-8cda-66daecca1709@sportplan.local
DTSTAMP:20260420T221748Z
DTSTART;VALUE=DATE:20260313
DTEND;VALUE=DATE:20260314
SUMMARY:StafettBirken Ski Relay 2026
DESCRIPTION:StafettBirken Ski Relay 2026 is Birken's official team-based public ski event in Lillehammer\, Norway\, on Friday 13 March 2026. Birken's official SkiBirken 2026 announcement says Friday includes StafettBirken for companies\, friends\, and families\, with four relay legs at Birkebeineren Ski Stadium\, which makes it an accessible amateur participation format.
LOCATION:Birkebeineren Ski Stadium\, Lillehammer\, Innlandet\, Norway
URL:https://sportplan.vercel.app/de/events/stafettbirken-ski-relay-2026-lillehammer-2026-03-13
END:VEVENT
END:VCALENDAR
