BEGIN:VCALENDAR
VERSION:2.0
PRODID:-//SportPlan//Event Calendar//EN
CALSCALE:GREGORIAN
BEGIN:VEVENT
UID:48093f13-cd8d-4211-91f0-28d982b61c6f@sportplan.local
DTSTAMP:20260421T010140Z
DTSTART;VALUE=DATE:20260726
DTEND;VALUE=DATE:20260727
SUMMARY:St. Donat Mudskipper Quebec Swimrun Championships and Open Water Swim
DESCRIPTION:
LOCATION:Saint-Donat-de-Montcalm
URL:https://sportplan.vercel.app/de/events/st-donat-mudskipper-quebec-swimrun-championships-and-open-water-swim-saint-donat-de-montcalm-2026-07-26
END:VEVENT
END:VCALENDAR
