BEGIN:VCALENDAR
VERSION:2.0
PRODID:-//SportPlan//Event Calendar//EN
CALSCALE:GREGORIAN
BEGIN:VEVENT
UID:4a4d00f4-507f-459d-9171-ea10ec74ba3e@sportplan.local
DTSTAMP:20260421T010207Z
DTSTART;VALUE=DATE:20260509
DTEND;VALUE=DATE:20260510
SUMMARY:Spire Ultra - East Midlands
DESCRIPTION:Spire Ultra - East Midlands takes place in North East Derbyshire on May 9\, 2026\, bringing runners together for a memorable race-day atmosphere. The route showcases the natural surroundings of North East Derbyshire\, making it especially appealing for trail runners and outdoor athletes.
LOCATION:North East Derbyshire
URL:https://sportplan.vercel.app/de/events/spire-ultra-east-midlands-north-east-derbyshire-2026-05-09
END:VEVENT
END:VCALENDAR
